BEGIN:VCALENDAR
VERSION:2.0
PRODID:-//La Gryffe - ECPv4.9.3.1//NONSGML v1.0//EN
CALSCALE:GREGORIAN
METHOD:PUBLISH
X-WR-CALNAME:La Gryffe
X-ORIGINAL-URL:http://lagryffe.net
X-WR-CALDESC:Évènements pour La Gryffe
BEGIN:VEVENT
DTSTART;TZID=UTC+0:20151212T133000
DTEND;TZID=UTC+0:20151212T220000
DTSTAMP:20260424T134239
CREATED:20151205T115940Z
LAST-MODIFIED:20151205T153532Z
UID:190-1449927000-1449957600@lagryffe.net
SUMMARY:Antifa fest\, Débat et conférence
DESCRIPTION: \n\n\nPartager la publication "Antifa fest\, Débat et conférence" \n\n	FacebookTwitterGoogle+E-mail\n	\n\n
URL:http://lagryffe.net/event/antifa-fest/
LOCATION:librairie la Gryffe\, 5 rue sebastien gryphe\, lyon\, 69007\, France
CATEGORIES:Discussion/débat,Projection
END:VEVENT
END:VCALENDAR