BEGIN:VCALENDAR
VERSION:2.0
PRODID:-//La Gryffe - ECPv4.9.3.1//NONSGML v1.0//EN
CALSCALE:GREGORIAN
METHOD:PUBLISH
X-WR-CALNAME:La Gryffe
X-ORIGINAL-URL:http://lagryffe.net
X-WR-CALDESC:Évènements pour La Gryffe
BEGIN:VEVENT
DTSTART;TZID=UTC+0:20160319T150000
DTEND;TZID=UTC+0:20160319T190000
DTSTAMP:20260424T104943
CREATED:20160302T153352Z
LAST-MODIFIED:20160303T160724Z
UID:351-1458399600-1458414000@lagryffe.net
SUMMARY:Rencontre/débat autour de "Pour la sociologie" avec Bernard Lahire
DESCRIPTION: \n\n\nPartager la publication "Rencontre/débat autour de « Pour la sociologie » avec Bernard Lahire" \n\n	FacebookTwitterGoogle+E-mail\n	\n\n
URL:http://lagryffe.net/event/rencontredebat-autour-de-pour-la-sociologie-avec-bernard-lahire-2/
CATEGORIES:Discussion/débat
END:VEVENT
END:VCALENDAR