BEGIN:VCALENDAR
VERSION:2.0
PRODID:-//La Gryffe - ECPv4.9.3.1//NONSGML v1.0//EN
CALSCALE:GREGORIAN
METHOD:PUBLISH
X-WR-CALNAME:La Gryffe
X-ORIGINAL-URL:https://lagryffe.net
X-WR-CALDESC:Évènements pour La Gryffe
BEGIN:VEVENT
DTSTART;TZID=UTC+0:20161104T160000
DTEND;TZID=UTC+0:20161104T230000
DTSTAMP:20260424T115654
CREATED:20161030T163705Z
LAST-MODIFIED:20161030T164706Z
UID:675-1478275200-1478300400@lagryffe.net
SUMMARY:Jean Marc Rouillan et Jean Henri Meunier
DESCRIPTION:Rencontre avec Jean Marc Rouillan autour de son dernier livre Je Regrette (Ed. Agone 2016) et projection de films de Jean Henri Meunier : Faut savoir se contenter de beaucoup (2016)\, Chute libre et Smoothie (1992) \n\n\nPartager la publication "Jean Marc Rouillan et Jean Henri Meunier" \n\n	FacebookTwitterGoogle+E-mail\n	\n\n
URL:https://lagryffe.net/event/675/
CATEGORIES:Discussion/débat,Projection
END:VEVENT
END:VCALENDAR