BEGIN:VCALENDAR
VERSION:2.0
PRODID:-//La Gryffe - ECPv4.9.3.1//NONSGML v1.0//EN
CALSCALE:GREGORIAN
METHOD:PUBLISH
X-WR-CALNAME:La Gryffe
X-ORIGINAL-URL:https://lagryffe.net
X-WR-CALDESC:Évènements pour La Gryffe
BEGIN:VEVENT
DTSTART;TZID=UTC+0:20160531T080000
DTEND;TZID=UTC+0:20160531T170000
DTSTAMP:20260424T085855
CREATED:20160531T122920Z
LAST-MODIFIED:20160531T123758Z
UID:559-1464681600-1464714000@lagryffe.net
SUMMARY:Rencontre/débat avec Jacques Wajnsztejn
DESCRIPTION: \n\n\nPartager la publication "Rencontre/débat avec Jacques Wajnsztejn" \n\n	FacebookTwitterGoogle+E-mail\n	\n\n
URL:https://lagryffe.net/event/conference-temps-critiques-avec-jacques-wajnsztejn/
CATEGORIES:Discussion/débat
END:VEVENT
END:VCALENDAR