BEGIN:VCALENDAR
VERSION:2.0
PRODID:-//La Gryffe - ECPv4.9.3.1//NONSGML v1.0//EN
CALSCALE:GREGORIAN
METHOD:PUBLISH
X-WR-CALNAME:La Gryffe
X-ORIGINAL-URL:https://lagryffe.net
X-WR-CALDESC:Évènements pour La Gryffe
BEGIN:VEVENT
DTSTART;TZID=UTC+0:20151205T143000
DTEND;TZID=UTC+0:20151205T170000
DTSTAMP:20260424T120026
CREATED:20151129T141309Z
LAST-MODIFIED:20151129T142637Z
UID:179-1449325800-1449334800@lagryffe.net
SUMMARY:Débat autour du livre : LE MALI RÊVÉ
DESCRIPTION: \n« Le Mali rêvé » est la métaphore pour dire qu’un autre Mali est possible. Le Mali rêvé\, c’est donc celui qu’on projette\, non pas comme un mirage\, mais bien comme un pays qui construit sa démocratie\, inspirée de ses traditions sociales. Un pays qui valorise ses traditions locales et ses richesses au bénéfice politique de tous. Un pays unifié\, juste\, laïc\, pacifique\, digne et libre.\nDans cet essai sur les racines de la violente crise politique qui agite le Mali depuis 2012\, l’auteur démontre que l’une des premières causes réside dans les fragiles soubassements du système politique malien. Depuis les années 1960\, il est en proie aux visions fantaisistes et aux promesses démocratiques illusoires de représentants irresponsables\, corrompus et acteurs directs du narcoterrorisme. Loin d’être un cri de désespoir\, cette analyse vise à panser les blessures d’un pays riche et multiculturel.\nLe Mali rêvé est la métaphore pour dire qu’un autre Mali est possible. Le Mali rêvé\, c’est donc celui qu’on projette\, non pas comme un mirage\, mais bien comme un pays qui construit sa démocratie\, inspirée de ses traditions sociales. Un pays qui valorise ses traditions locales et ses richesses au bénéfice politique de tous. Un pays unifié\, juste\, laïc\, pacifique\, digne et libre. \n\n\nPartager la publication "Débat autour du livre : LE MALI RÊVÉ" \n\n	FacebookTwitterGoogle+E-mail\n	\n\n
URL:https://lagryffe.net/event/debat-autour-du-livre-le-mali-reve/
LOCATION:librairie la Gryffe\, 5 rue sebastien gryphe\, lyon\, 69007\, France
CATEGORIES:Discussion/débat
END:VEVENT
END:VCALENDAR