BEGIN:VCALENDAR
VERSION:2.0
PRODID:-//La Gryffe - ECPv4.9.3.1//NONSGML v1.0//EN
CALSCALE:GREGORIAN
METHOD:PUBLISH
X-WR-CALNAME:La Gryffe
X-ORIGINAL-URL:https://lagryffe.net
X-WR-CALDESC:Évènements pour La Gryffe
BEGIN:VEVENT
DTSTART;TZID=UTC+0:20160326T150000
DTEND;TZID=UTC+0:20160326T190000
DTSTAMP:20260424T090602
CREATED:20160312T234424Z
LAST-MODIFIED:20160312T234424Z
UID:381-1459004400-1459018800@lagryffe.net
SUMMARY:Débat sur les néo-paysans avec Gaspard d'Allens et Lucile Leclair
DESCRIPTION: \n\n\nPartager la publication "Débat sur les néo-paysans avec Gaspard d’Allens et Lucile Leclair" \n\n	FacebookTwitterGoogle+E-mail\n	\n\n
URL:https://lagryffe.net/event/debat-sur-les-neo-paysans-avec-gaspard-dallens-et-lucile-leclair/
LOCATION:librairie la Gryffe\, 5 rue sebastien gryphe\, lyon\, 69007\, France
CATEGORIES:Discussion/débat
END:VEVENT
END:VCALENDAR