BEGIN:VCALENDAR
VERSION:2.0
PRODID:-//La Gryffe - ECPv4.9.3.1//NONSGML v1.0//EN
CALSCALE:GREGORIAN
METHOD:PUBLISH
X-WR-CALNAME:La Gryffe
X-ORIGINAL-URL:https://lagryffe.net
X-WR-CALDESC:Évènements pour La Gryffe
BEGIN:VEVENT
DTSTART;TZID=UTC+0:20160423T150000
DTEND;TZID=UTC+0:20160423T190000
DTSTAMP:20260424T090708
CREATED:20160229T194947Z
LAST-MODIFIED:20160302T090030Z
UID:343-1461423600-1461438000@lagryffe.net
SUMMARY:Rencontre/débat autour du livre "Je vous écris de l'usine" avec J.-P. LEVARAY
DESCRIPTION: \n\n\nPartager la publication "Rencontre/débat autour du livre « Je vous écris de l’usine » avec J.-P. LEVARAY" \n\n	FacebookTwitterGoogle+E-mail\n	\n\n
URL:https://lagryffe.net/event/debatconference-autour-du-livre-je-vous-ecris-de-lusine-avec-jp-levaray/
LOCATION:librairie la Gryffe\, 5 rue sebastien gryphe\, lyon\, 69007\, France
CATEGORIES:Discussion/débat
END:VEVENT
END:VCALENDAR