BEGIN:VCALENDAR
VERSION:2.0
PRODID:-//La Gryffe - ECPv4.9.3.1//NONSGML v1.0//EN
CALSCALE:GREGORIAN
METHOD:PUBLISH
X-WR-CALNAME:La Gryffe
X-ORIGINAL-URL:https://lagryffe.net
X-WR-CALDESC:Évènements pour La Gryffe
BEGIN:VEVENT
DTSTART;TZID=UTC+0:20161117T080000
DTEND;TZID=UTC+0:20161117T170000
DTSTAMP:20260424T085856
CREATED:20161117T075619Z
LAST-MODIFIED:20161117T075641Z
UID:709-1479369600-1479402000@lagryffe.net
SUMMARY:Rencontre débat avec les Gimenologues
DESCRIPTION:Rencontre débat le samedi 19 novembre à 15 heures \nAutour des Fils de la nuit (Ed. Libertalia) et de A Zaragoza o al charco (Ed. L’Insomniaque) \n\n\nPartager la publication "Rencontre débat avec les Gimenologues" \n\n	FacebookTwitterGoogle+E-mail\n	\n\n
URL:https://lagryffe.net/event/rencontre-debat-avec-les-gimenologues/
END:VEVENT
END:VCALENDAR