BEGIN:VCALENDAR
VERSION:2.0
PRODID:-//La Gryffe - ECPv4.9.3.1//NONSGML v1.0//EN
CALSCALE:GREGORIAN
METHOD:PUBLISH
X-WR-CALNAME:La Gryffe
X-ORIGINAL-URL:https://lagryffe.net
X-WR-CALDESC:Évènements pour La Gryffe
BEGIN:VEVENT
DTSTART;TZID=UTC+0:20160528T150000
DTEND;TZID=UTC+0:20160528T180000
DTSTAMP:20260424T102342
CREATED:20160520T113131Z
LAST-MODIFIED:20160520T113131Z
UID:545-1464447600-1464458400@lagryffe.net
SUMMARY:Rencontre/débat avec Fabrice Riceputi
DESCRIPTION: \nSamedi 28  mai à 15 h : Rencontre/débat avec Fabrice Riceputi autour de La bataille d’Einaudi\, Le passager clandestin\, 2015. \nDans ce livre Fabrice Repuci relate le long combat de Jean-Luc Einaudi (1951-2014) auteur de La bataille de Paris\, 17 octobre 1961 (Seuil\, 1991) pour révéler la vérité sur le « pogrom » du 17 octobre 1961 à Paris quand 12 000 Algériens furent raflés\, enfermés et brutalisés tandis que des dizaines d’entre eux étaient assassinés par la police\, dirigée alors par le préfet Maurice Papon. Pendant longtemps ce crime a été occulté ou minoré\, la gauche même\, qui a longtemps protesté contre la répression de la manifestation au Métro Charonne (8 février 1962) qui causa 9 morts parmi les manifestants\, a négligé ce crime d’un état colonial. \n\n\nPartager la publication "Rencontre/débat avec Fabrice Riceputi" \n\n	FacebookTwitterGoogle+E-mail\n	\n\n
URL:https://lagryffe.net/event/rencontredebat-avec-fabrice-riceputi/
LOCATION:librairie la Gryffe\, 5 rue sebastien gryphe\, lyon\, 69007\, France
END:VEVENT
END:VCALENDAR