BEGIN:VCALENDAR
VERSION:2.0
PRODID:-//La Gryffe - ECPv4.9.3.1//NONSGML v1.0//EN
CALSCALE:GREGORIAN
METHOD:PUBLISH
X-WR-CALNAME:La Gryffe
X-ORIGINAL-URL:https://lagryffe.net
X-WR-CALDESC:Évènements pour La Gryffe
BEGIN:VEVENT
DTSTART;TZID=UTC+0:20151117T080000
DTEND;TZID=UTC+0:20151117T170000
DTSTAMP:20260425T145155
CREATED:20151117T105820Z
LAST-MODIFIED:20151117T110638Z
UID:91-1447747200-1447779600@lagryffe.net
SUMMARY:conference "capitalisme vert"
DESCRIPTION:phillipe pelletier \n
URL:https://lagryffe.net/event/conference-capitalisme-vert/
LOCATION:librairie la Gryffe\, 5 rue sebastien gryphe\, lyon\, 69007\, France
ORGANIZER;CN="Graine%20d%27anar%20%28F.A.%29":MAILTO: grainedanar@federation-anarchiste.org
END:VEVENT
END:VCALENDAR